BEGIN:VCALENDAR
VERSION:2.0
PRODID:icalendar-ruby
CALSCALE:GREGORIAN
METHOD:PUBLISH
BEGIN:VEVENT
DTSTAMP:20260420T134505Z
UID:138-3113241@gpchurch.ca
DTSTART:20260424T223000Z
DTEND:20260425T003000Z
CLASS:PUBLIC
CREATED:20260420T090317
DESCRIPTION:
LAST-MODIFIED:20260420T090317
LOCATION:Gateway
SUMMARY:Next Gen
URL;VALUE=URI:https://www.gpchurch.ca/events/next-gen--138/2026-04-24
ATTACH;FILENAME=Next-gen.jpg;FMTTYPE=image/jpeg:https://dq5pwpg1q8ru0.cloud
 front.net/2026/03/26/13/45/34/c56cd5e9-0dc3-4777-9eb0-ff64251dc518/Next-ge
 n.jpg
END:VEVENT
END:VCALENDAR
