BEGIN:VCALENDAR
VERSION:2.0
PRODID:icalendar-ruby
CALSCALE:GREGORIAN
METHOD:PUBLISH
BEGIN:VEVENT
DTSTAMP:20260420T152855Z
UID:135-3113165@gpchurch.ca
DTSTART:20260426T143000Z
DTEND:20260426T160000Z
CLASS:PUBLIC
CREATED:20260420T090316
DESCRIPTION:
LAST-MODIFIED:20260420T090316
LOCATION:Gateway
SUMMARY:Sunday Worship Service
URL;VALUE=URI:https://www.gpchurch.ca/events/sunday-worship-service--135/20
 26-04-26
ATTACH;FILENAME=Sermon.jpg;FMTTYPE=image/jpeg:https://dq5pwpg1q8ru0.cloudfr
 ont.net/2026/04/08/16/23/35/7d3daa7f-2ac3-4536-ab30-4874ad8ea78b/Sermon.jp
 g
END:VEVENT
END:VCALENDAR
